BEGIN:VCALENDAR
VERSION:2.0
PRODID:-//FO[U]R ALTO - ECPv6.15.14//NONSGML v1.0//EN
CALSCALE:GREGORIAN
METHOD:PUBLISH
X-ORIGINAL-URL:http://www.fouralto.com
X-WR-CALDESC:Veranstaltungen für FO[U]R ALTO
REFRESH-INTERVAL;VALUE=DURATION:PT1H
X-Robots-Tag:noindex
X-PUBLISHED-TTL:PT1H
BEGIN:VTIMEZONE
TZID:Europe/Berlin
BEGIN:DAYLIGHT
TZOFFSETFROM:+0100
TZOFFSETTO:+0200
TZNAME:CEST
DTSTART:20190331T010000
END:DAYLIGHT
BEGIN:STANDARD
TZOFFSETFROM:+0200
TZOFFSETTO:+0100
TZNAME:CET
DTSTART:20191027T010000
END:STANDARD
BEGIN:DAYLIGHT
TZOFFSETFROM:+0100
TZOFFSETTO:+0200
TZNAME:CEST
DTSTART:20200329T010000
END:DAYLIGHT
BEGIN:STANDARD
TZOFFSETFROM:+0200
TZOFFSETTO:+0100
TZNAME:CET
DTSTART:20201025T010000
END:STANDARD
BEGIN:DAYLIGHT
TZOFFSETFROM:+0100
TZOFFSETTO:+0200
TZNAME:CEST
DTSTART:20210328T010000
END:DAYLIGHT
BEGIN:STANDARD
TZOFFSETFROM:+0200
TZOFFSETTO:+0100
TZNAME:CET
DTSTART:20211031T010000
END:STANDARD
END:VTIMEZONE
BEGIN:VEVENT
DTSTART;TZID=Europe/Berlin:20200930T193000
DTEND;TZID=Europe/Berlin:20200930T193000
DTSTAMP:20260420T145653
CREATED:20230418T103836Z
LAST-MODIFIED:20230418T103836Z
UID:2219-1601494200-1601494200@www.fouralto.com
SUMMARY:FO[U]R ALTO
DESCRIPTION:Fo[u]r Alto & StringsIn collaboration withLola Rubio – violin;\nVincent Royer – viola;\nElisabeth Coudoux – cello;\nKathrin Pechlof – harp
URL:http://www.fouralto.com/event/four-alto-5/
LOCATION:Kunststation St. Peter\, Jabachstraße 1\, Köln\, 50676\, DE
END:VEVENT
END:VCALENDAR