BEGIN:VCALENDAR
VERSION:2.0
PRODID:-//FO[U]R ALTO - ECPv6.15.14//NONSGML v1.0//EN
CALSCALE:GREGORIAN
METHOD:PUBLISH
X-WR-CALNAME:FO[U]R ALTO
X-ORIGINAL-URL:http://www.fouralto.com
X-WR-CALDESC:Veranstaltungen für FO[U]R ALTO
REFRESH-INTERVAL;VALUE=DURATION:PT1H
X-Robots-Tag:noindex
X-PUBLISHED-TTL:PT1H
BEGIN:VTIMEZONE
TZID:Europe/Berlin
BEGIN:DAYLIGHT
TZOFFSETFROM:+0100
TZOFFSETTO:+0200
TZNAME:CEST
DTSTART:20180325T010000
END:DAYLIGHT
BEGIN:STANDARD
TZOFFSETFROM:+0200
TZOFFSETTO:+0100
TZNAME:CET
DTSTART:20181028T010000
END:STANDARD
BEGIN:DAYLIGHT
TZOFFSETFROM:+0100
TZOFFSETTO:+0200
TZNAME:CEST
DTSTART:20190331T010000
END:DAYLIGHT
BEGIN:STANDARD
TZOFFSETFROM:+0200
TZOFFSETTO:+0100
TZNAME:CET
DTSTART:20191027T010000
END:STANDARD
BEGIN:DAYLIGHT
TZOFFSETFROM:+0100
TZOFFSETTO:+0200
TZNAME:CEST
DTSTART:20200329T010000
END:DAYLIGHT
BEGIN:STANDARD
TZOFFSETFROM:+0200
TZOFFSETTO:+0100
TZNAME:CET
DTSTART:20201025T010000
END:STANDARD
END:VTIMEZONE
BEGIN:VEVENT
DTSTART;TZID=Europe/Berlin:20191212T200000
DTEND;TZID=Europe/Berlin:20191212T200000
DTSTAMP:20260421T052458
CREATED:20230418T103838Z
LAST-MODIFIED:20230418T103838Z
UID:2222-1576180800-1576180800@www.fouralto.com
SUMMARY:FO[U]R ALTO
DESCRIPTION:In collaboration withBiliana Voutchkova – violin;\nVincent Royer – viola;\nElisabeth Coudoux – cello;\nKathrin Pechlof – harp
URL:http://www.fouralto.com/event/four-alto-8/
LOCATION:Wabe\, Danziger Straße 101\, Berlin\, 10405\, DE
END:VEVENT
END:VCALENDAR